BEGIN:VCALENDAR
VERSION:2.0
PRODID:-//Le Notti di Milano - Ristoranti, Pizzerie, Eventi a Milano - ECPv4.9.12//NONSGML v1.0//EN
CALSCALE:GREGORIAN
METHOD:PUBLISH
X-WR-CALNAME:Le Notti di Milano - Ristoranti, Pizzerie, Eventi a Milano
X-ORIGINAL-URL:https://www.lenottidimilano.com
X-WR-CALDESC:Eventi per Le Notti di Milano - Ristoranti, Pizzerie, Eventi a Milano
BEGIN:VTIMEZONE
TZID:Europe/Rome
BEGIN:DAYLIGHT
TZOFFSETFROM:+0100
TZOFFSETTO:+0200
TZNAME:CEST
DTSTART:20220327T010000
END:DAYLIGHT
BEGIN:STANDARD
TZOFFSETFROM:+0200
TZOFFSETTO:+0100
TZNAME:CET
DTSTART:20221030T010000
END:STANDARD
END:VTIMEZONE
BEGIN:VEVENT
DTSTART;TZID=Europe/Rome:20220721T102000
DTEND;TZID=Europe/Rome:20221031T183000
DTSTAMP:20260422T155120
CREATED:20220721T084101Z
LAST-MODIFIED:20220727T160539Z
UID:58307-1658398800-1667241000@www.lenottidimilano.com
SUMMARY:Crociera sui Navigli di Milano
DESCRIPTION:Navigli Canals Boat Trip – For more details: CLICK HERE. \n——————————————————————————————————————- \nLa città di Milano è famosa in tutto il mondo per i suoi bellissimi navigli. \nUna zona dove si concentrano molteplici locali della movida milanese che propongono il tanto amato happy hour e dove è possibile vedere la città da una prospettiva del tutto nuova e romantica con una bella crociera lungo i navigli. \nDurante la minicrociera a Milano potrete andare alla scoperta di tutti i segreti dei secolari corsi d’acqua\, ascoltando la loro storia raccontata dall’audioguida. \nL’Itinerario della crociera sui navigli milanesi\nAll’ora prescelta ci si incontrerà direttamente sulle rive del canale e più precisamente in Alzaia Naviglio Grande al civico 4. \nSalirete a bordo delle particolari imbarcazioni e inizierete la navigazione lungo i canali da dove potrete ammirare le tipiche case milanesi\, caratterizzate dalle loro ringhiere. \nLa navigazione vi porterà anche alla scoperta della bellissima Chiesa di San Cristoforo\, risalente addirittura al XIII secolo. \nLa crociera passerà anche per la Canottieri Olona\, uno dei circoli di canottaggio più famoso e antico d’Italia con i suoi 100 anni di attività. \nSi passerà anche per il famosissimo Vicolo dei Lavandai\, conosciuto da sempre per essere stato un tempo il punto di riferimento delle donne che ci andavano per lavare i panni delle famiglie facoltose. \nInoltre durante la crociera si passerà per il Ponte Scodellino\, una zona di Milano ideata da Leonardo da Vinci caratterizzata da molteplici locali notturni dove si gustano i buonissimi aperitivi della Milano da bere. \nLa crociera durerà in totale 1 ora. \nPer prenotare la crociera sui navigli di Milano è necessario selezionare la data e l’orario prescelto: CLICCA QUI. \n
URL:https://www.lenottidimilano.com/evento/crociera-sui-navigli-di-milano/
LOCATION:Navigli di Milano\, Alzaia Naviglio Grande\, 4\, Milano\, Italia
CATEGORIES:Tour
ATTACH;FMTTYPE=image/jpeg:https://www.lenottidimilano.com/wp-content/uploads/2022/07/navigli.jpg
END:VEVENT
END:VCALENDAR