BEGIN:VCALENDAR
VERSION:2.0
PRODID:-//Le Notti di Milano - Ristoranti, Pizzerie, Eventi a Milano - ECPv4.9.12//NONSGML v1.0//EN
CALSCALE:GREGORIAN
METHOD:PUBLISH
X-WR-CALNAME:Le Notti di Milano - Ristoranti, Pizzerie, Eventi a Milano
X-ORIGINAL-URL:https://www.lenottidimilano.com
X-WR-CALDESC:Eventi per Le Notti di Milano - Ristoranti, Pizzerie, Eventi a Milano
BEGIN:VTIMEZONE
TZID:Europe/Rome
BEGIN:DAYLIGHT
TZOFFSETFROM:+0100
TZOFFSETTO:+0200
TZNAME:CEST
DTSTART:20210328T010000
END:DAYLIGHT
BEGIN:STANDARD
TZOFFSETFROM:+0200
TZOFFSETTO:+0100
TZNAME:CET
DTSTART:20211031T010000
END:STANDARD
END:VTIMEZONE
BEGIN:VEVENT
DTSTART;VALUE=DATE:20210625
DTEND;VALUE=DATE:20210718
DTSTAMP:20260423T004520
CREATED:20210615T090055Z
LAST-MODIFIED:20210615T090250Z
UID:46374-1624579200-1626566399@www.lenottidimilano.com
SUMMARY:Festival Musicale 2021 a Villa Arconati
DESCRIPTION:Dal 25 Giugno al 17 Luglio torna la manifestazione: Festival Musicale\, presso la splendida Villa Arconati. \nCome nella precedente edizione\, anche quest’anno i concerti si terranno nello splendido giardino della villa\, nella Facciata sud\, nella magia del tramonto. \nPrima dell’inizio degli spettacoli i visitatori potranno prendere parte a passeggiate guidate nel giardino\, mentre dopo la loro fine avranno la possibilità di cenare presso la villa. \nPer consultare il palinsesto completo degli eventi\, o per acquistare i biglietti\, CLICCA QUI. \n
URL:https://www.lenottidimilano.com/evento/festival-musicale-2021-a-villa-arconati/2021-06-25/
LOCATION:Villa Arconati\, Via Madonna Fametta\, 1\, Bollate (MI)\, Italia
CATEGORIES:Concerti
ATTACH;FMTTYPE=image/jpeg:https://www.lenottidimilano.com/wp-content/uploads/2021/06/villa-arconati2.jpg
END:VEVENT
END:VCALENDAR