BEGIN:VCALENDAR
VERSION:2.0
PRODID:-//Le Notti di Milano - Ristoranti, Pizzerie, Eventi a Milano - ECPv4.9.12//NONSGML v1.0//EN
CALSCALE:GREGORIAN
METHOD:PUBLISH
X-WR-CALNAME:Le Notti di Milano - Ristoranti, Pizzerie, Eventi a Milano
X-ORIGINAL-URL:https://www.lenottidimilano.com
X-WR-CALDESC:Eventi per Le Notti di Milano - Ristoranti, Pizzerie, Eventi a Milano
BEGIN:VTIMEZONE
TZID:Europe/Rome
BEGIN:DAYLIGHT
TZOFFSETFROM:+0100
TZOFFSETTO:+0200
TZNAME:CEST
DTSTART:20210328T010000
END:DAYLIGHT
BEGIN:STANDARD
TZOFFSETFROM:+0200
TZOFFSETTO:+0100
TZNAME:CET
DTSTART:20211031T010000
END:STANDARD
END:VTIMEZONE
BEGIN:VEVENT
DTSTART;VALUE=DATE:20210819
DTEND;VALUE=DATE:20210820
DTSTAMP:20260424T163757
CREATED:20210531T102855Z
LAST-MODIFIED:20210531T103135Z
UID:45524-1629331200-1629417599@www.lenottidimilano.com
SUMMARY:Il concerto di Omar Pedrini al Castello Sforzesco
DESCRIPTION:Giovedì 19 Agosto\, al Castello Sforzesco di Milano\, nell’ambito dell’Estate Sforzesca 2021\, si terrà il concerto dal vivo di Omar Pedrini e la sua band. \nOmar Pedrini ha scelto il titolo: “Dai Timoria ad oggi”\, per il suo concerto-evento milanese. \nSi tratta di un titolo emblematico\, che riassume la storia musicale dell’artista\, dagli inizi con i Timoria fino alle sue esperienze da solista. \nIl concerto live di Omar Pedrini insieme alla sua band\, sarà un intenso fascio di energia elettrica. \nPer acquistare i biglietti del concerto\, CLICCA QUI. \n
URL:https://www.lenottidimilano.com/evento/il-concerto-di-omar-pedrini-al-castello-sforzesco/
LOCATION:Castello Sforzesco\, Piazza Castello\, Milano\, Italia
CATEGORIES:Concerti
ATTACH;FMTTYPE=image/jpeg:https://www.lenottidimilano.com/wp-content/uploads/2021/05/omar-pedrini.jpg
END:VEVENT
END:VCALENDAR