BEGIN:VCALENDAR
VERSION:2.0
PRODID:-//Le Notti di Milano - Ristoranti, Pizzerie, Eventi a Milano - ECPv4.9.12//NONSGML v1.0//EN
CALSCALE:GREGORIAN
METHOD:PUBLISH
X-WR-CALNAME:Le Notti di Milano - Ristoranti, Pizzerie, Eventi a Milano
X-ORIGINAL-URL:https://www.lenottidimilano.com
X-WR-CALDESC:Eventi per Le Notti di Milano - Ristoranti, Pizzerie, Eventi a Milano
BEGIN:VTIMEZONE
TZID:Europe/Rome
BEGIN:DAYLIGHT
TZOFFSETFROM:+0100
TZOFFSETTO:+0200
TZNAME:CEST
DTSTART:20220327T010000
END:DAYLIGHT
BEGIN:STANDARD
TZOFFSETFROM:+0200
TZOFFSETTO:+0100
TZNAME:CET
DTSTART:20221030T010000
END:STANDARD
END:VTIMEZONE
BEGIN:VEVENT
DTSTART;VALUE=DATE:20220512
DTEND;VALUE=DATE:20220516
DTSTAMP:20260422T192643
CREATED:20220504T103644Z
LAST-MODIFIED:20220504T104120Z
UID:57646-1652313600-1652659199@www.lenottidimilano.com
SUMMARY:Il mercatino solidale che aiuta le donne
DESCRIPTION:Dal 12 al 15 Maggio 2022 si terrà l’evento: Da me e a te\, il mercatino solidale dell’usato. \nSi potranno acquistare i capi a dei prezzi vantaggiosissimi e il ricavato aiuterà l’associazione: la casa delle donne di Milano. \nLa manifestazione si terrà presso lo Spazio da Vivere\, in via Marsala 10 a Milano. \nGli orario di apertura al pubblico sono: \n– Giovedì dalle ore 16:00 alle ore 20:00\n– Da venerdì a domenica dalle ore 11:00 alle ore 19:30. \nPer ulteriori informazioni\, CLICCA QUI. \n
URL:https://www.lenottidimilano.com/evento/il-mercatino-solidale-che-aiuta-le-donne/
LOCATION:Spazio da Vivere\, Via Marsala\, 10\, Milano
CATEGORIES:Milano
ATTACH;FMTTYPE=image/jpeg:https://www.lenottidimilano.com/wp-content/uploads/2022/05/mercato.jpg
END:VEVENT
END:VCALENDAR