BEGIN:VCALENDAR
VERSION:2.0
PRODID:-//Le Notti di Milano - Ristoranti, Pizzerie, Eventi a Milano - ECPv4.9.12//NONSGML v1.0//EN
CALSCALE:GREGORIAN
METHOD:PUBLISH
X-WR-CALNAME:Le Notti di Milano - Ristoranti, Pizzerie, Eventi a Milano
X-ORIGINAL-URL:https://www.lenottidimilano.com
X-WR-CALDESC:Eventi per Le Notti di Milano - Ristoranti, Pizzerie, Eventi a Milano
BEGIN:VTIMEZONE
TZID:Europe/Rome
BEGIN:DAYLIGHT
TZOFFSETFROM:+0100
TZOFFSETTO:+0200
TZNAME:CEST
DTSTART:20210328T010000
END:DAYLIGHT
BEGIN:STANDARD
TZOFFSETFROM:+0200
TZOFFSETTO:+0100
TZNAME:CET
DTSTART:20211031T010000
END:STANDARD
END:VTIMEZONE
BEGIN:VEVENT
DTSTART;TZID=Europe/Rome:20211021T080000
DTEND;TZID=Europe/Rome:20211031T170000
DTSTAMP:20260425T114643
CREATED:20211005T140954Z
LAST-MODIFIED:20211005T142047Z
UID:51157-1634803200-1635699600@www.lenottidimilano.com
SUMMARY:JAZZMI 2021: Tutte le novità in programma
DESCRIPTION:Dal 21 al 31 Ottobre torna la manifestazione: JAZZMI 2021\, con oltre duecento eventi in programma in tutta Milano. \nSaranno molteplici gli artisti italiani e internazionali coinvolti che proporranno imperdibili concerti gratuiti per andare alla scoperta della città. \nDalla periferie e alla provincia\, in ogni angolo di Milano si potrà riscoprire l’arte\, i libri\, i film e i documentari. \nSaranno moltissimi gli incontri e gli eventi speciali in programma. \nPer conoscere il palinsesto completo degli eventi\, CLICCA QUI. \n
URL:https://www.lenottidimilano.com/evento/jazzmi-2021-tutte-le-novita-in-programma/
LOCATION:Milano\, Via delle Erbe\, 2\, Milano\, MI\, 20124\, Italia
CATEGORIES:Milano
ATTACH;FMTTYPE=image/jpeg:https://www.lenottidimilano.com/wp-content/uploads/2021/10/jazzmi-1.jpg
END:VEVENT
END:VCALENDAR