BEGIN:VCALENDAR
VERSION:2.0
PRODID:-//Le Notti di Milano - Ristoranti, Pizzerie, Eventi a Milano - ECPv4.9.12//NONSGML v1.0//EN
CALSCALE:GREGORIAN
METHOD:PUBLISH
X-WR-CALNAME:Le Notti di Milano - Ristoranti, Pizzerie, Eventi a Milano
X-ORIGINAL-URL:https://www.lenottidimilano.com
X-WR-CALDESC:Eventi per Le Notti di Milano - Ristoranti, Pizzerie, Eventi a Milano
BEGIN:VTIMEZONE
TZID:Europe/Rome
BEGIN:DAYLIGHT
TZOFFSETFROM:+0100
TZOFFSETTO:+0200
TZNAME:CEST
DTSTART:20220327T010000
END:DAYLIGHT
BEGIN:STANDARD
TZOFFSETFROM:+0200
TZOFFSETTO:+0100
TZNAME:CET
DTSTART:20221030T010000
END:STANDARD
END:VTIMEZONE
BEGIN:VEVENT
DTSTART;VALUE=DATE:20220524
DTEND;VALUE=DATE:20220526
DTSTAMP:20260422T174206
CREATED:20220519T084819Z
LAST-MODIFIED:20220519T091514Z
UID:57870-1653350400-1653523199@www.lenottidimilano.com
SUMMARY:Litfiba in concerto con: L'ultimo girone tour
DESCRIPTION:Martedì 24 e mercoledì 25 Maggio 2022 si terrà il Tour milanese dei Litfiba: L’ultimo girone tour. \nI concerti si terranno presso l’Alcatraz di Milano. \nIl tour chiuderà la carriera di una delle rock-band italiane più famose. \nI Liftfiba hanno alle spalle una carriera ricca di successi\, con migliaia di concerti in Italia e in tutto il mondo\, e con oltre 10 milioni di dischi venduti. \nSaranno una cinquantina i brani riarrangiati per l’occasione e suonati a rotazione nei concerti\, brani scelti tra i più importanti della band. \nPer acquistare i biglietti\, CLICCA QUI. \n
URL:https://www.lenottidimilano.com/evento/litfiba-in-concerto-con-l-ultimo-girone-tour/
LOCATION:Alcatraz\, Via Valtellina\, 25\, Milano\, Italia
CATEGORIES:Concerti
ATTACH;FMTTYPE=image/jpeg:https://www.lenottidimilano.com/wp-content/uploads/2022/05/litfiba1.jpg
END:VEVENT
END:VCALENDAR