BEGIN:VCALENDAR
VERSION:2.0
PRODID:-//Le Notti di Milano - Ristoranti, Pizzerie, Eventi a Milano - ECPv4.9.12//NONSGML v1.0//EN
CALSCALE:GREGORIAN
METHOD:PUBLISH
X-WR-CALNAME:Le Notti di Milano - Ristoranti, Pizzerie, Eventi a Milano
X-ORIGINAL-URL:https://www.lenottidimilano.com
X-WR-CALDESC:Eventi per Le Notti di Milano - Ristoranti, Pizzerie, Eventi a Milano
BEGIN:VTIMEZONE
TZID:Europe/Rome
BEGIN:DAYLIGHT
TZOFFSETFROM:+0100
TZOFFSETTO:+0200
TZNAME:CEST
DTSTART:20220327T010000
END:DAYLIGHT
BEGIN:STANDARD
TZOFFSETFROM:+0200
TZOFFSETTO:+0100
TZNAME:CET
DTSTART:20221030T010000
END:STANDARD
END:VTIMEZONE
BEGIN:VEVENT
DTSTART;VALUE=DATE:20220504
DTEND;VALUE=DATE:20220509
DTSTAMP:20260424T084905
CREATED:20220504T113534Z
LAST-MODIFIED:20220504T114323Z
UID:57659-1651622400-1652054399@www.lenottidimilano.com
SUMMARY:Milano Beauty Week 2022
DESCRIPTION:Dal 3 all’8 Maggio 2022 si terrà la prima edizione dell’evento: Milano Beauty Week\, la settimana dedicata alla bellezza ed al benessere. \nLa manifestazione coinvolgerà vari luoghi della città di Milano\, mentre il fulcro si terrà presso il Palazzo Giureconsulti di Piazza dei Mercanti. \nIn occasione della manifestazione saranno allestite mostre\, laboratori\, esperienze di bellezza e diverse iniziative di beneficenza. \nInoltre saranno molteplici le attività in programma in occasione della manifestazione\, per conoscere tutti i dettagli: CLICCA QUI. \n
URL:https://www.lenottidimilano.com/evento/milano-beauty-week-2022/
LOCATION:Milano\, Piazzale Vincenzo Cuoco\, Milano\, Italia
CATEGORIES:Milano
ATTACH;FMTTYPE=image/png:https://www.lenottidimilano.com/wp-content/uploads/2022/05/milano-beauty2.png
END:VEVENT
END:VCALENDAR