BEGIN:VCALENDAR
VERSION:2.0
PRODID:-//Le Notti di Milano - Ristoranti, Pizzerie, Eventi a Milano - ECPv4.9.12//NONSGML v1.0//EN
CALSCALE:GREGORIAN
METHOD:PUBLISH
X-WR-CALNAME:Le Notti di Milano - Ristoranti, Pizzerie, Eventi a Milano
X-ORIGINAL-URL:https://www.lenottidimilano.com
X-WR-CALDESC:Eventi per Le Notti di Milano - Ristoranti, Pizzerie, Eventi a Milano
BEGIN:VTIMEZONE
TZID:Europe/Rome
BEGIN:DAYLIGHT
TZOFFSETFROM:+0100
TZOFFSETTO:+0200
TZNAME:CEST
DTSTART:20220327T010000
END:DAYLIGHT
BEGIN:STANDARD
TZOFFSETFROM:+0200
TZOFFSETTO:+0100
TZNAME:CET
DTSTART:20221030T010000
END:STANDARD
END:VTIMEZONE
BEGIN:VEVENT
DTSTART;VALUE=DATE:20220607
DTEND;VALUE=DATE:20220613
DTSTAMP:20260422T172557
CREATED:20220607T114821Z
LAST-MODIFIED:20220607T114821Z
UID:57934-1654560000-1655078399@www.lenottidimilano.com
SUMMARY:MILANO DESIGN WEEK 2022
DESCRIPTION:Dal 6 al 12 Giugno 2022 torna la tanto amata: MILANO DESIGN WEEK. \nLa manifestazione prevede una serie di appuntamenti che si svolgeranno in parallelo al Salone del Mobile e che vede in programma numerosissimi eventi tra mostre\, collettive\, installazioni e novità di prodotto. \nLa tematica di quest’anno della Milano Design Week è: Tra Spazio e Tempo. \nPer conoscere tutte gli eventi in programma: CLICCA QUI. \n
URL:https://www.lenottidimilano.com/evento/milano-design-week-2022/
LOCATION:Milano
CATEGORIES:Incontri & Rassegne
ATTACH;FMTTYPE=image/jpeg:https://www.lenottidimilano.com/wp-content/uploads/2022/06/milano1-1.jpg
END:VEVENT
END:VCALENDAR