BEGIN:VCALENDAR
VERSION:2.0
PRODID:-//Le Notti di Milano - Ristoranti, Pizzerie, Eventi a Milano - ECPv4.9.12//NONSGML v1.0//EN
CALSCALE:GREGORIAN
METHOD:PUBLISH
X-WR-CALNAME:Le Notti di Milano - Ristoranti, Pizzerie, Eventi a Milano
X-ORIGINAL-URL:https://www.lenottidimilano.com
X-WR-CALDESC:Eventi per Le Notti di Milano - Ristoranti, Pizzerie, Eventi a Milano
BEGIN:VTIMEZONE
TZID:Europe/Rome
BEGIN:DAYLIGHT
TZOFFSETFROM:+0100
TZOFFSETTO:+0200
TZNAME:CEST
DTSTART:20210328T010000
END:DAYLIGHT
BEGIN:STANDARD
TZOFFSETFROM:+0200
TZOFFSETTO:+0100
TZNAME:CET
DTSTART:20211031T010000
END:STANDARD
END:VTIMEZONE
BEGIN:VEVENT
DTSTART;VALUE=DATE:20210612
DTEND;VALUE=DATE:20210623
DTSTAMP:20260425T224728
CREATED:20210526T131719Z
LAST-MODIFIED:20210526T131902Z
UID:45273-1623456000-1624406399@www.lenottidimilano.com
SUMMARY:MILANO FASHION WEEK MEN'S
DESCRIPTION:Dal 12 al 22 Giugno 2021 torna l’evento: “MILANO FASHION WEEK MEN’S“\, la settimana della moda milanese che quest’anno propone un ricco calendario pieno di appuntamenti\, con una formula ibrida tra la presenza e il digitale. \nSaranno in totale 63 marchi\, 48 appuntamenti\, 10 presentazioni e 5 eventi. \nLe sfilate in presenza saranno: \n– Dolce & Gabbana\, il 19 Giugno\n– Etro\, il 20 Giugno\n– Giorgio Armani\, doppia sfilata il 21 Giugno \nTra le novità più attese della Milano Fashion Week 2021 c’è il debutto di Diesel con il nuovo direttore creativo Glenn Martens che\, il 21 giugno\, presenterà una collezione no-gender. \nPer ulteriori informazioni e per conoscere il palinsesto completo dell’evento\, CLICCA QUI. \n
URL:https://www.lenottidimilano.com/evento/milano-fashion-week-mens/2021-06-12/
LOCATION:Milano\, Corso Vittorio Emanuele II\, Milano\, Italia
CATEGORIES:Milano
ATTACH;FMTTYPE=image/jpeg:https://www.lenottidimilano.com/wp-content/uploads/2021/05/milano-fashion-week4.jpg
END:VEVENT
END:VCALENDAR