BEGIN:VCALENDAR
VERSION:2.0
PRODID:-//Le Notti di Milano - Ristoranti, Pizzerie, Eventi a Milano - ECPv4.9.12//NONSGML v1.0//EN
CALSCALE:GREGORIAN
METHOD:PUBLISH
X-WR-CALNAME:Le Notti di Milano - Ristoranti, Pizzerie, Eventi a Milano
X-ORIGINAL-URL:https://www.lenottidimilano.com
X-WR-CALDESC:Eventi per Le Notti di Milano - Ristoranti, Pizzerie, Eventi a Milano
BEGIN:VTIMEZONE
TZID:Europe/Rome
BEGIN:DAYLIGHT
TZOFFSETFROM:+0100
TZOFFSETTO:+0200
TZNAME:CEST
DTSTART:20260329T010000
END:DAYLIGHT
BEGIN:STANDARD
TZOFFSETFROM:+0200
TZOFFSETTO:+0100
TZNAME:CET
DTSTART:20261025T010000
END:STANDARD
END:VTIMEZONE
BEGIN:VEVENT
DTSTART;VALUE=DATE:20260406
DTEND;VALUE=DATE:20260407
DTSTAMP:20260421T085332
CREATED:20260302T163308Z
LAST-MODIFIED:20260302T163446Z
UID:63053-1775433600-1775519999@www.lenottidimilano.com
SUMMARY:Pasquetta 2026 Milano: MOOD LIVE
DESCRIPTION:Nell’incantevole cornice dell’Idroscalo di Milano\, il Mood Live si erge come una destinazione unica per chi desidera celebrare la Pasqua e la Pasquetta in un’atmosfera dinamica e contemporanea\, lontana dalle convenzioni tradizionali. \nPer la Pasquetta 2025\, il Mood Live di Milano ha ideato un programma che spazia con diverse proposte gastronomiche\, pensato per creare un’esperienza unica per tutti i palati\, anche quelli più golosi. \nCiò che rende il Mood Live una destinazione ideale per le famiglie durante le festività pasquali è la sua capacità di coniugare elementi apparentemente contrastanti: tradizione e innovazione\, divertimento e raffinatezza\, momenti di convivialità e spazi per la privacy. \nPer ulteriori informazioni o prenotazioni: CLICCA QUI. \n
URL:https://www.lenottidimilano.com/evento/pasquetta-2026-milano-mood-live/
LOCATION:Mood Live\, circonvallazine idroscalo ingresso tribune\, Milano\, Italia
CATEGORIES:Pasqua
ATTACH;FMTTYPE=image/jpeg:https://www.lenottidimilano.com/wp-content/uploads/2026/03/blog83.jpg
END:VEVENT
END:VCALENDAR