BEGIN:VCALENDAR
VERSION:2.0
PRODID:-//Le Notti di Milano - Ristoranti, Pizzerie, Eventi a Milano - ECPv4.9.12//NONSGML v1.0//EN
CALSCALE:GREGORIAN
METHOD:PUBLISH
X-WR-CALNAME:Le Notti di Milano - Ristoranti, Pizzerie, Eventi a Milano
X-ORIGINAL-URL:https://www.lenottidimilano.com
X-WR-CALDESC:Eventi per Le Notti di Milano - Ristoranti, Pizzerie, Eventi a Milano
BEGIN:VTIMEZONE
TZID:Europe/Rome
BEGIN:DAYLIGHT
TZOFFSETFROM:+0100
TZOFFSETTO:+0200
TZNAME:CEST
DTSTART:20220327T010000
END:DAYLIGHT
BEGIN:STANDARD
TZOFFSETFROM:+0200
TZOFFSETTO:+0100
TZNAME:CET
DTSTART:20221030T010000
END:STANDARD
END:VTIMEZONE
BEGIN:VEVENT
DTSTART;VALUE=DATE:20220214
DTEND;VALUE=DATE:20220215
DTSTAMP:20260421T102822
CREATED:20220203T111810Z
LAST-MODIFIED:20220203T111810Z
UID:56616-1644796800-1644883199@www.lenottidimilano.com
SUMMARY:SAN VALENTINO JUST CAVALLI
DESCRIPTION:Lunedì 14 Febbraio 2022 il Just Cavalli di Milano propone una splendida serata all’insegna dell’eleganza e dell’amore. \nPer l’occasione i bravissimi e qualificati Chef della cucina hanno studiato un prelibato e gustoso menù\, ricco di piatti tutti da condividere con il proprio amore. \nChi lo preferisce potrà invece optare per il rinomato aperitivo del Just Cavalli\, una vera garanzia di qualità ed eleganza anche per la romantica serata di San Valentino. \nTra la raffinatezza dell’eleganza della location e l’atmosfera romantica trascorrere ore romantiche e indimenticabili\, in compagnia della persona amata. \nPREZZI 2022 SAN VALENTINO JUST CAVALLI MILANO\nAPERITIVO: 15 € Prezzo a Persona. Incluso 1 drink.\nCENA: 65 € Prezzo a Persona con menù guidato e servito. Bevande incluse.\nINGRESSO SERATA: 15 € Prezzo a Persona. Incluso 1 drink.\nTAVOLI DA: 300 € Inclusi 5 ingressi. \nPer ulteriori informazioni o prenotazioni\, CLICCA QUI. \n
URL:https://www.lenottidimilano.com/evento/san-valentino-just-cavalli-2/
LOCATION:Just Cavalli\, Via Luigi Camoens\, Milano\, Milano\, 20121\, Italia
CATEGORIES:San Valentino
ATTACH;FMTTYPE=image/jpeg:https://www.lenottidimilano.com/wp-content/uploads/2022/02/just-cavalli.jpg
END:VEVENT
END:VCALENDAR