BEGIN:VCALENDAR
VERSION:2.0
PRODID:-//Le Notti di Milano - Ristoranti, Pizzerie, Eventi a Milano - ECPv4.9.12//NONSGML v1.0//EN
CALSCALE:GREGORIAN
METHOD:PUBLISH
X-WR-CALNAME:Le Notti di Milano - Ristoranti, Pizzerie, Eventi a Milano
X-ORIGINAL-URL:https://www.lenottidimilano.com
X-WR-CALDESC:Eventi per Le Notti di Milano - Ristoranti, Pizzerie, Eventi a Milano
BEGIN:VTIMEZONE
TZID:Europe/Rome
BEGIN:DAYLIGHT
TZOFFSETFROM:+0100
TZOFFSETTO:+0200
TZNAME:CEST
DTSTART:20210328T010000
END:DAYLIGHT
BEGIN:STANDARD
TZOFFSETFROM:+0200
TZOFFSETTO:+0100
TZNAME:CET
DTSTART:20211031T010000
END:STANDARD
END:VTIMEZONE
BEGIN:VEVENT
DTSTART;TZID=Europe/Rome:20211018T080000
DTEND;TZID=Europe/Rome:20211030T170000
DTSTAMP:20260425T114710
CREATED:20211018T120929Z
LAST-MODIFIED:20211018T120929Z
UID:51663-1634544000-1635613200@www.lenottidimilano.com
SUMMARY:Tires & Marble Sculptures: al Ride di Milano
DESCRIPTION:Dal 15 al 30 Ottobre presso il Ride Milano\, si terrà la mostra: Tires & Marble Sculptures\, di Nazareno Biondo e curata dall’Art Director Giuseppe Iavicoli. \nL’artista proporrà a tutti i visitatori una vasta esposizione delle sue opere d’arti più recenti realizzate con materiali di riciclo come copertoni\, legno\, e ovviamente l’immancabile e pregiato marmo\, materiale che è anche un suo tratto distintivo. \nLa mostra sarà visitabile da giovedì a domenica dalle ore 18:00 alle ore 23:00. \nPer ulteriori informazioni o prenotazioni\, CLICCA QUI. \n
URL:https://www.lenottidimilano.com/evento/tires-marble-sculptures-al-ride-di-milano/
LOCATION:Ride Milano\, Porta Genova\, Milano\, Italia
CATEGORIES:Mostre
ATTACH;FMTTYPE=image/jpeg:https://www.lenottidimilano.com/wp-content/uploads/2021/10/ride.jpg
END:VEVENT
END:VCALENDAR